BEGIN:VCALENDAR
VERSION:2.0
PRODID:-//jEvents 2.0 for Joomla//EN
CALSCALE:GREGORIAN
METHOD:PUBLISH
BEGIN:VTIMEZONE
TZID:Asia/Kuala_Lumpur
BEGIN:STANDARD
DTSTART:20210719T080000
RDATE:20380119T111407
TZOFFSETFROM:+0800
TZOFFSETTO:+0800
TZNAME:Asia/Kuala_Lumpur +08
END:STANDARD
END:VTIMEZONE
BEGIN:VEVENT
UID:2abaee6b9185aef2d4cc09d8774219eb
CATEGORIES:Energy
SUMMARY:Future Energy Asia (FEA) 2022
LOCATION:Bangkok, Thailand
DESCRIPTION;ENCODING=QUOTED-PRINTABLE:\n\n\nFuture Energy Asia (FEA) Exhibition & Summit 2022\nOfficially hosted 
 by the Ministry of Energy Thailand and co-hosted by EGAT and PTT, Future En
 ergy Asia, Asia's leading energy transition and transformation exhibition a
 nd summit will run its 4th edition exhibition and summit live and in-person
  at BITEC, Bangkok (Thailand) from 20 - 22 July 2022.\nThe exhibition and s
 ummit will convene 5,000+ energy professionals and key industry leaders inc
 luding the likes of Energy Ministers, Policy Makers and representatives fro
 m energy majors including NOCs and IOCS, power generation authorities, mids
 tream gas and LNG players, EPCs and Project Consultants and renewable energ
 y developers. \n
CONTACT:FREE MAP DISTRIBUTION
DTSTAMP:20260421T034451Z
DTSTART;TZID=Asia/Kuala_Lumpur:20220720T080000
DTEND;TZID=Asia/Kuala_Lumpur:20220722T170000
SEQUENCE:0
TRANSP:OPAQUE
END:VEVENT
END:VCALENDAR