BEGIN:VCALENDAR
VERSION:2.0
PRODID:-//jEvents 2.0 for Joomla//EN
CALSCALE:GREGORIAN
METHOD:PUBLISH
BEGIN:VTIMEZONE
TZID:Asia/Kuala_Lumpur
BEGIN:STANDARD
DTSTART:20140908T000000
RDATE:20380119T111407
TZOFFSETFROM:+0800
TZOFFSETTO:+0800
TZNAME:Asia/Kuala_Lumpur +08
END:STANDARD
END:VTIMEZONE
BEGIN:VEVENT
UID:ff93c47e17c676c2d132d5855265b427
CATEGORIES:Oil & Gas
SUMMARY:Oil & Gas Indonesia 2015 -The 10th International Oil and Gas Exploration, Production and Refining Exhibition
LOCATION:Jakarta International Expo, Kemayoran, Jakarta | INDONESIA
DESCRIPTION;ENCODING=QUOTED-PRINTABLE:\n\n Oil & Gas Indonesia (OGI) is an exhibition focused on Oil and Gas Expl
 oration, Production and Refining and will be held at the Jakarta Internatio
 nal Expo on 9 – 12 September 2015, hosting worldwide representatives from a
 ll areas of the Oil & Gas industry.\nIn 2013, Oil & Gas Indonesia showcased
  the largest exhibition of petroleum equipment ever seen in Indonesia. With
  visitors representing Independent, International and National Oil and Gas 
 companies, the range of products on display was diverse......find out more\
 n
CONTACT:FREE MAP DISTRIBUTION
X-EXTRAINFO:http://oilgasindonesia.com/
DTSTAMP:20260421T161522Z
DTSTART;TZID=Asia/Kuala_Lumpur;VALUE=DATE:20150909
DTEND;TZID=Asia/Kuala_Lumpur;VALUE=DATE:20150913
SEQUENCE:0
TRANSP:OPAQUE
END:VEVENT
END:VCALENDAR