BEGIN:VCALENDAR
VERSION:2.0
PRODID:-//jEvents 2.0 for Joomla//EN
CALSCALE:GREGORIAN
METHOD:PUBLISH
BEGIN:VTIMEZONE
TZID:Asia/Kuala_Lumpur
BEGIN:STANDARD
DTSTART:20210801T020000
RDATE:20380119T111407
TZOFFSETFROM:+0800
TZOFFSETTO:+0800
TZNAME:Asia/Kuala_Lumpur +08
END:STANDARD
END:VTIMEZONE
BEGIN:VEVENT
UID:85285ac119a0d0ec65345a9ab73d20ab
CATEGORIES:Energy
SUMMARY:HYDROGEN ASEAN 2022
LOCATION:Online / Virtual
DESCRIPTION;ENCODING=QUOTED-PRINTABLE:The development of a hydrogen economy is vital to enable countries to achie
 ve a deep decarbonisation strategy effectively, allowing countries to meet 
 their climate goals, while boosting green growth and create sustainable res
 ilient cities, industries and jobs.\n \nThe hosting of the HYDROGEN ASEAN 2
 022 Summit and Exhibition is timely as it provides an international stage f
 or the Southeast-Asian countries to transition towards a hydrogen economy f
 uture. The Summit is structured to gather policymakers, industrial captains
 , clean mobility actors, power producers, carbon capture and storage expert
 s, hydrogen producers and green technology providers including funding agen
 cies to deliberate on policies and establish strategies to unlock new oppor
 tunities in the hydrogen economy. The Summit will also look into new hydrog
 en applications in the power, transportation, mining and industrial sectors
 .\n\n Programme and Registration here\n
CONTACT:Online / Virtual
X-EXTRAINFO:Theme: Pathway to ASEAN Hydrogen Economy Transformation\nCo-Organized: Mala
 ysian Industry-Government Group for Hight Technology (MIGHT) & Confexhub Sd
 n. Bhd.\nFacebook: @HydrogenASEAN\nWebsite: https://www.hydrogenasean.com/\
 n
DTSTAMP:20260421T034536Z
DTSTART;TZID=Asia/Kuala_Lumpur:20220802T020000
DTEND;TZID=Asia/Kuala_Lumpur:20220804T170000
SEQUENCE:0
TRANSP:OPAQUE
END:VEVENT
END:VCALENDAR