BEGIN:VCALENDAR
VERSION:2.0
PRODID:-//jEvents 2.0 for Joomla//EN
CALSCALE:GREGORIAN
METHOD:PUBLISH
BEGIN:VTIMEZONE
TZID:Asia/Kuala_Lumpur
BEGIN:STANDARD
DTSTART:20210726T090000
RDATE:20380119T111407
TZOFFSETFROM:+0800
TZOFFSETTO:+0800
TZNAME:Asia/Kuala_Lumpur +08
END:STANDARD
END:VTIMEZONE
BEGIN:VEVENT
UID:b819e936a6e7bdeb8ed9fc43cc41b095
CATEGORIES:Oil & Gas
SUMMARY:2nd Oil, Gas, and Power Cambodia 2022
LOCATION:Sokha Hotel Phnom Penh
DESCRIPTION;ENCODING=QUOTED-PRINTABLE:\n\nFollowing the success of the inaugural Oil and Gas Cambodia 2019 and fu
 ll support and endorsement by the Ministry of Mines and Energy, we are plea
 sed to bring you the 2nd Oil, Gas and Power Cambodia 2022 which will be hel
 d from 27-28 July 2022 with a planned site visit to the oil and gas facilit
 ies sponsored by Tela Kampuchea in Sihanoukville. \n \n This is the only in
 ternational oil, gas and power event that is officially endorsed and suppor
 ted by Cambodia’s Ministry of Mines and Energy.\n \n With over 3,000 local 
 and international participants including key stakeholders like Tela Kampuch
 ea, Sokimex, Dara TC, PTT Cambodia, Total Cambodge, Cambodian Natural Gas C
 orp etc from the 1st Oil and Gas Cambodia in 2019, this 2nd edition in 2022
  is expected to attract at least 5,000 local and international participants
 . \n \n Cambodia is one of the most promising countries for investment in O
 il and Gas Industry, it holds a high ranking of 37th place in the world as 
 a potential country for investment. With an average economic growth of more
  than 8% annually for the past 15 years, Cambodia is one of the fastest gro
 wing economy in the world.  To meet the demand for energy to continue their
  massive economic growth, the Cambodian government has been focused on thei
 r efforts to fast track the development of the oil and gas industry.\n \n \
 n
DTSTAMP:20260421T034451Z
DTSTART;TZID=Asia/Kuala_Lumpur:20220727T090000
DTEND;TZID=Asia/Kuala_Lumpur:20220728T170000
SEQUENCE:0
TRANSP:OPAQUE
END:VEVENT
END:VCALENDAR