BEGIN:VCALENDAR
VERSION:2.0
PRODID:-//jEvents 2.0 for Joomla//EN
CALSCALE:GREGORIAN
METHOD:PUBLISH
BEGIN:VTIMEZONE
TZID:Asia/Kuala_Lumpur
BEGIN:STANDARD
DTSTART:20211030T100000
RDATE:20380119T111407
TZOFFSETFROM:+0800
TZOFFSETTO:+0800
TZNAME:Asia/Kuala_Lumpur +08
END:STANDARD
END:VTIMEZONE
BEGIN:VEVENT
UID:46fce7f8978a1c4dfaaf4811122f1c09
CATEGORIES:Oil & Gas
SUMMARY:ADIPEC 2022
LOCATION:Abu Dhabi, UAE
DESCRIPTION;ENCODING=QUOTED-PRINTABLE:\n\nAs the world’s most influential gathering for energy industry professio
 nals, ADIPEC 2022, hosted by the Abu Dhabi National Oil Company (ADNOC), wi
 ll accelerate the energy transition, unlock the real value of a decarbonise
 d future, showcase ground-breaking technologies and explore actionable stra
 tegies and solutions to the challenges and opportunities created by complex
  global energy market dynamics.\n\n\nTaking place from 31 October to 3 Nove
 mber, ADIPEC 2022 will be the leading venue for the energy industry to deba
 te, deliberate and address key issues on the trilemma of security of supply
 , affordability, and sustainability. Strategically taking place ahead of CO
 P27, ADIPEC 2022 will be the convening platform for policy makers, energy C
 EOs and industry professionals to address the critical factors influencing 
 the energy ecosystem’s transformation and its role as a key enabler of the 
 global economy.\n\n\nThe ADIPEC Conferences provide both strategic and tech
 nical insights that gather over 1,200 global policy makers, energy CEOs and
  industry professionals to discuss key trends shaping the future of energy;
  what are the challenges and opportunities of the energy transition, geopol
 itical factors, new finance and partnership frameworks and the latest techn
 ical developments.\n \n Find out more: https://bit.ly/384yBKd\n
CONTACT:FREE MAP DISTRIBUTION
DTSTAMP:20260421T063839Z
DTSTART;TZID=Asia/Kuala_Lumpur:20221031T100000
DTEND;TZID=Asia/Kuala_Lumpur:20221103T170000
SEQUENCE:0
TRANSP:OPAQUE
END:VEVENT
END:VCALENDAR