BEGIN:VCALENDAR
VERSION:2.0
PRODID:-//jEvents 2.0 for Joomla//EN
CALSCALE:GREGORIAN
METHOD:PUBLISH
BEGIN:VTIMEZONE
TZID:Asia/Kuala_Lumpur
BEGIN:STANDARD
DTSTART:20211114T080000
RDATE:20380119T111407
TZOFFSETFROM:+0800
TZOFFSETTO:+0800
TZNAME:Asia/Kuala_Lumpur +08
END:STANDARD
END:VTIMEZONE
BEGIN:VEVENT
UID:9e0e2c7b93b092f2f9cbc277832fb2aa
CATEGORIES:Oil & Gas
SUMMARY:OSEA 2022
LOCATION:Marina Bay Sands Expo and Convention Centre, Singapore
DESCRIPTION;ENCODING=QUOTED-PRINTABLE:
CONTACT:Hybrid Event # FREE MAP DISTRIBUTION
X-EXTRAINFO:http://www.osea-asia.com/
DTSTAMP:20260421T034450Z
DTSTART;TZID=Asia/Kuala_Lumpur:20221115T080000
DTEND;TZID=Asia/Kuala_Lumpur:20221117T170000
SEQUENCE:0
TRANSP:OPAQUE
END:VEVENT
END:VCALENDAR