BEGIN:VCALENDAR
VERSION:2.0
PRODID:-//jEvents 2.0 for Joomla//EN
CALSCALE:GREGORIAN
METHOD:PUBLISH
BEGIN:VTIMEZONE
TZID:Asia/Kuala_Lumpur
BEGIN:STANDARD
DTSTART:20210620T090000
RDATE:20380119T111407
TZOFFSETFROM:+0800
TZOFFSETTO:+0800
TZNAME:Asia/Kuala_Lumpur +08
END:STANDARD
END:VTIMEZONE
BEGIN:VEVENT
UID:8bd2311767da3418b58686dd059dd89d
CATEGORIES:Maritime 
SUMMARY:Philippine Ports and Shipping 2022
LOCATION:Sofitel Philippine Plaza Manila, The Philippines
DESCRIPTION;ENCODING=QUOTED-PRINTABLE:\n\nPhilippine Ports and Shipping is the biggest biennial Ports, Shipping a
 nd Transport Logistics Exhibition and Conference in BIMP EAGA – Brunei Indo
 nesia Malaysia Philippines East ASEAN Growth Area now in its 11th successfu
 l year.\n\n\nWe are delighted to invite you to participate in the next In P
 erson biennial 11th Philippine Ports and Shipping 2022 Exhibition and Confe
 rence taking place from Tuesday 21 to Thursday 23 June 2022 at the luxuriou
 s Sofitel Philippine Plaza Manila in a safe and professional five star hote
 l environment.\n\n\nA two days Conference Programme will feature 25 world-c
 lass conference speakers addressing topical issues and challenges for BIMP 
 EAGA – Brunei Indonesia Malaysia Philippines East ASEAN Growth Area regiona
 l transportation and logistics attended by a gathering of 150 senior govern
 ment officials, industry principals, decision makers, academics, harbour ma
 sters, harbour engineers, port engineers, maintenance supervisors and procu
 rement decision makers together with the region’s leading shippers, cargo o
 wners, importers / exporters, shipping lines, freight forwarders, logistics
  companies, ports, terminal operating companies, railway operators, port eq
 uipment and services suppliers from countries throughout the BIMP EAGA – Br
 unei Indonesia Malaysia Philippines East ASEAN Growth Area region.\n\n\nThe
 re will be an Exhibition of 30 international shipping lines, container port
 s, logistics companies, IT companies, container terminal equipment, service
 s providers and event sponsors. We are delighted to invite you to participa
 te in this event by reserving an Exhibition Booth and registering conferenc
 e delegates to attend the concurrent two days Conference Programme.\n
X-EXTRAINFO:http://www.transportevents.com/ForthcomingEventsdetails.aspx?EventID=EVE177
DTSTAMP:20260421T081303Z
DTSTART;TZID=Asia/Kuala_Lumpur:20220621T090000
DTEND;TZID=Asia/Kuala_Lumpur:20220623T153000
SEQUENCE:0
TRANSP:OPAQUE
END:VEVENT
END:VCALENDAR