BEGIN:VCALENDAR
VERSION:2.0
PRODID:-//jEvents 2.0 for Joomla//EN
CALSCALE:GREGORIAN
METHOD:PUBLISH
BEGIN:VTIMEZONE
TZID:Asia/Kuala_Lumpur
BEGIN:STANDARD
DTSTART:20210227T083000
RDATE:20380119T111407
TZOFFSETFROM:+0800
TZOFFSETTO:+0800
TZNAME:Asia/Kuala_Lumpur +08
END:STANDARD
END:VTIMEZONE
BEGIN:VEVENT
UID:1e98155338b6bc51dbd25a99e7cb6496
CATEGORIES:Maritime 
SUMMARY:ASEAN Ports & Shipping 2022
LOCATION:InterContinental Kuala Lumpur, Malaysia
DESCRIPTION;ENCODING=QUOTED-PRINTABLE:\n\nASEAN Ports and Shipping continues to be the biggest annual Container P
 orts, Shipping and Transport Logistics Exhibition and Conference in the ASE
 AN region now in its 19th successful year.\n\n\nThe 19th ASEAN Ports and Sh
 ipping 2022 Exhibition and Conference will take place In Person in Malaysia
  at the luxurious InterContinental Hotel Kuala Lumpur from Monday 28 Februa
 ry to Wednesday 2 March 2022 in a safe and professional five star hotel env
 ironment.\n\n\nThe event is honoured to be hosted by Port Klang Authority.\
 n\n\nThe two days Conference Programme will feature 25 world-class transpor
 t and logistics conference speakers addressing global and regional issues c
 oncerning trade and investment attended by a gathering of 150 senior govern
 ment officials, industry principals, decision makers, academics, harbour ma
 sters, harbour engineers, port engineers, maintenance supervisors and procu
 rement decision makers together with the region’s leading shippers, cargo o
 wners, importers / exporters, shipping lines, freight forwarders, logistics
  companies, ports, terminal operating companies, railway operators, port eq
 uipment and services suppliers from countries throughout the ASEAN region.\
 n\n\nThere will be the commercial opportunity for 30 exhibitors and sponsor
 s to network safely In Person with the decision-making delegates at this ma
 jor annual international maritime transport Exhibition and Conference trade
  event for the ASEAN region.\n\n\nReserve your first choice of exhibition s
 tand on the Exhibition Floorplan and register a conference delegation.\n\n\
 nINTERNATIONAL PARTICIPANTS MAY EXEMPT FROM QUARANTINE in two ways:\n\n\n1)
  Please visit https://safetravel.mida.gov.my/entry-permission/short-term-st
 ay/short-term-business-travellers-guidelines/ then complete the following a
 pplication formhttps://safetravel.mida.gov.my/one-stop-centre-2/\n\n\n2) Ma
 laysia also exempts quarantine for fully vaccinated travellers entering Mal
 aysia who had Covid-19 within 11 to 60 days prior to arrival. Travellers mu
 st possess a printed or digital laboratory report confirming Covid-19 durin
 g that period. In cases where travellers had been admitted to hospital for 
 Covid-19, please furnish a ‘fit for travel’ letter from your hospital. For 
 travellers who were treated for Covid-19 at home or isolation centre, pleas
 e provide a negative RTK-Antigen test result upon arrival in Malaysia taken
  within two days before arriving in Malaysia. Further information at https:
 //covid-19.moh.gov.my/garis-panduan/gp-umum-covid19/prosedur-kemasukan-ke-m
 alaysia-bagi-pengembara-yang-pernah-dijangkiti-covid-19\n
CONTACT:FREE MAP DISTRIBUTION
X-EXTRAINFO:http://www.transportevents.com/ForthcomingEventsdetails.aspx?EventID=EVE174
DTSTAMP:20260421T034450Z
DTSTART;TZID=Asia/Kuala_Lumpur:20220228T083000
DTEND;TZID=Asia/Kuala_Lumpur:20220302T153000
SEQUENCE:0
TRANSP:OPAQUE
END:VEVENT
END:VCALENDAR