BEGIN:VCALENDAR
VERSION:2.0
PRODID:-//jEvents 2.0 for Joomla//EN
CALSCALE:GREGORIAN
METHOD:PUBLISH
BEGIN:VTIMEZONE
TZID:Asia/Kuala_Lumpur
BEGIN:STANDARD
DTSTART:20211206T090000
RDATE:20380119T111407
TZOFFSETFROM:+0800
TZOFFSETTO:+0800
TZNAME:Asia/Kuala_Lumpur +08
END:STANDARD
END:VTIMEZONE
BEGIN:VEVENT
UID:d6efc2207a69196b14101d4d24168468
CATEGORIES:Oil & Gas
SUMMARY:Storm Expo 2022
LOCATION:SINGAPORE EXPO, SINGAPORE 
DESCRIPTION;ENCODING=QUOTED-PRINTABLE:\n\nThe Storm Expo will welcome thousands of hurricane and tornado speciali
 sts, government service providers, weather experts, insurers, and disaster 
 relief efforts from across the globe all under one roof, ensuring that our 
 attendees leave the show with the tools and knowledge they need to prepare 
 themselves and their communities for any storm-related disaster. With Miami
  being a city of great risk and potential damage estimated to be $166 billi
 on from storm-related catastrophes, The Storm Expo is the ultimate showcase
  of preventative, current & post disaster management not only for the city 
 but for the globe in minimizing the effects of hurricanes, tornadoes, cyclo
 nes, and countless other storm-based catastrophes.\n
X-EXTRAINFO:https://www.thestormexpoasia.com/
DTSTAMP:20260421T034450Z
DTSTART;TZID=Asia/Kuala_Lumpur:20221207T090000
DTEND;TZID=Asia/Kuala_Lumpur:20221208T180000
SEQUENCE:0
TRANSP:OPAQUE
END:VEVENT
END:VCALENDAR