BEGIN:VCALENDAR
VERSION:2.0
PRODID:-//jEvents 2.0 for Joomla//EN
CALSCALE:GREGORIAN
METHOD:PUBLISH
BEGIN:VTIMEZONE
TZID:Asia/Kuala_Lumpur
BEGIN:STANDARD
DTSTART:20211206T090000
RDATE:20380119T111407
TZOFFSETFROM:+0800
TZOFFSETTO:+0800
TZNAME:Asia/Kuala_Lumpur +08
END:STANDARD
END:VTIMEZONE
BEGIN:VEVENT
UID:b1e54d3f3480c4d57419758343352164
CATEGORIES:Oil & Gas
SUMMARY:Flood Expo Asia 2022
LOCATION:SINGAPORE EXPO, SINGAPORE 
DESCRIPTION;ENCODING=QUOTED-PRINTABLE:\n\nThe Flood Expo Asia is the ultimate innovative exhibition and conferenc
 e designed specifically to support the mitigation of the most costly natura
 l disasters in the region, by showcasing the global solutions available tod
 ay that will change tomorrow. The Flood Expo World series includes over 100
  seminars from industry leaders.\n
X-EXTRAINFO:https://www.thefloodexpoasia.com/
DTSTAMP:20260421T034536Z
DTSTART;TZID=Asia/Kuala_Lumpur:20221207T090000
DTEND;TZID=Asia/Kuala_Lumpur:20221208T180000
SEQUENCE:0
TRANSP:OPAQUE
END:VEVENT
END:VCALENDAR