BEGIN:VCALENDAR
VERSION:2.0
PRODID:-//jEvents 2.0 for Joomla//EN
CALSCALE:GREGORIAN
METHOD:PUBLISH
BEGIN:VTIMEZONE
TZID:Asia/Kuala_Lumpur
BEGIN:STANDARD
DTSTART:20211206T090000
RDATE:20380119T111407
TZOFFSETFROM:+0800
TZOFFSETTO:+0800
TZNAME:Asia/Kuala_Lumpur +08
END:STANDARD
END:VTIMEZONE
BEGIN:VEVENT
UID:b5db2754b435b9800f1674842dacce0c
CATEGORIES:Oil & Gas
SUMMARY:Earthquake Expo 2022
LOCATION:SINGAPORE EXPO, SINGAPORE 
DESCRIPTION;ENCODING=QUOTED-PRINTABLE:\n\nThe Earthquake Expo Singapore is the most innovative exhibition and con
 ference dedicated to supporting the mitigation of one of the world’s most d
 evastating natural disasters. The Earthquake Expo World series includes ove
 r 100 seminars from industry leaders.\n
X-EXTRAINFO:https://www.theearthquakeexpoasia.com/
DTSTAMP:20260421T034451Z
DTSTART;TZID=Asia/Kuala_Lumpur:20221207T090000
DTEND;TZID=Asia/Kuala_Lumpur:20221208T180000
SEQUENCE:0
TRANSP:OPAQUE
END:VEVENT
END:VCALENDAR