BEGIN:VCALENDAR
VERSION:2.0
PRODID:-//jEvents 2.0 for Joomla//EN
CALSCALE:GREGORIAN
METHOD:PUBLISH
BEGIN:VTIMEZONE
TZID:Asia/Kuala_Lumpur
BEGIN:STANDARD
DTSTART:20211206T090000
RDATE:20380119T111407
TZOFFSETFROM:+0800
TZOFFSETTO:+0800
TZNAME:Asia/Kuala_Lumpur +08
END:STANDARD
END:VTIMEZONE
BEGIN:VEVENT
UID:8e38e2a931e9be93db5cd72080625ec5
CATEGORIES:Oil & Gas
SUMMARY:Heat and Fire Expo Asia 2022
LOCATION:SINGAPORE EXPO, SINGAPORE 
DESCRIPTION;ENCODING=QUOTED-PRINTABLE:\n\nThe Heat and Fire Expo Asia is the innovative exhibition and conference
  designed to support the mitigation for one of the most costly natural disa
 sters in the World by showcasing the latest revolutionary global solutions.
 \n
X-EXTRAINFO:https://www.theheatandfireexpoasia.com/
DTSTAMP:20260421T034451Z
DTSTART;TZID=Asia/Kuala_Lumpur:20221207T090000
DTEND;TZID=Asia/Kuala_Lumpur:20221208T180000
SEQUENCE:0
TRANSP:OPAQUE
END:VEVENT
END:VCALENDAR