BEGIN:VCALENDAR
VERSION:2.0
PRODID:-//jEvents 2.0 for Joomla//EN
CALSCALE:GREGORIAN
METHOD:PUBLISH
BEGIN:VTIMEZONE
TZID:Asia/Kuala_Lumpur
BEGIN:STANDARD
DTSTART:20211206T080000
RDATE:20380119T111407
TZOFFSETFROM:+0800
TZOFFSETTO:+0800
TZNAME:Asia/Kuala_Lumpur +08
END:STANDARD
END:VTIMEZONE
BEGIN:VEVENT
UID:191099976e0074da7a477f02b3887a2d
CATEGORIES:Oil & Gas
SUMMARY:NATURAL DISASTERS EXPO ASIA (NDEA)2022
LOCATION:SINGAPORE EXPO, SINGAPORE
DESCRIPTION;ENCODING=QUOTED-PRINTABLE:\n\nThe Natural Disasters Expo Asia showcases the latest and most effective
  products, technologies, services and strategies to predict, prevent, mitig
 ate, manage and recover from natural disasters.\n\n\nThe event connects inn
 ovators and solution providers together with technical government agencies,
  industry & business leaders, as well as NGOs. Providing an urgently requir
 ed platform for adoption of new solutions and the re-evaluation of preferre
 d suppliers.\n\n\nEvent Dates: 7th & 8th December 2022 in Singapore\n\n\nTh
 e Natural Disasters Expo combines four individual exhibitions & conferences
  that are co-located and run simultaneously alongside each other. Each expo
  is focused on a specific natural disaster, these include: Flood Expo - Sto
 rm Expo - Earthquake Expo - Heat & Fire Expo The event also includes a gene
 ral zone where suppliers that provide solutions for all disasters can exhib
 it.\n\n\nFor further information, and to find out how you can participate.\
 n\n\nPlease contact our Group Event Director, Mr. Luke Lubega: This email a
 ddress is being protected from spambots. You need JavaScript enabled to vie
 w it.
 //
 \n
X-EXTRAINFO:https://www.naturaldisastersshowasia.com/
DTSTAMP:20260421T063954Z
DTSTART;TZID=Asia/Kuala_Lumpur:20221207T080000
DTEND;TZID=Asia/Kuala_Lumpur:20221208T180000
SEQUENCE:0
TRANSP:OPAQUE
END:VEVENT
END:VCALENDAR