BEGIN:VCALENDAR
VERSION:2.0
PRODID:-//jEvents 2.0 for Joomla//EN
CALSCALE:GREGORIAN
METHOD:PUBLISH
BEGIN:VTIMEZONE
TZID:Asia/Kuala_Lumpur
BEGIN:STANDARD
DTSTART:20210515T090000
RDATE:20380119T111407
TZOFFSETFROM:+0800
TZOFFSETTO:+0800
TZNAME:Asia/Kuala_Lumpur +08
END:STANDARD
END:VTIMEZONE
BEGIN:VEVENT
UID:4fbbde3fc67fde27c6f33287751843a0
CATEGORIES:Oil & Gas
SUMMARY:29th Annual Middle East Petroleum & Gas Conference (MPGC 2022)
LOCATION:Bahrain
DESCRIPTION;ENCODING=QUOTED-PRINTABLE:\n\n\n\n\nMPGC 2022 to re-convene in person on May 16-17 2022 in Bahrain\n\
 n\n \n\n\nConference Connection, along with hosts, Bapco, Ministry of Oil a
 nd nogaholding have decided to re-schedule MPGC to 16-17 May 2022. The chan
 ge in dates will allow sufficient time for the situation to normalize and f
 or all participants to travel and re-convene safely to participate fully in
  the conference, hosted functions and networking activities, with further d
 etails on the venue to be announced shortly. \n \nThe 29th Annual MPGC 2022
  will provide a convenient option for both virtual and in-person attendance
  in Bahrain, to open participation to the MPGC community fully, in the even
 t of unforeseen travel restrictions.\n\n\n\n
X-EXTRAINFO:http://www.mpgc.cc/
DTSTAMP:20260421T034451Z
DTSTART;TZID=Asia/Kuala_Lumpur:20220516T090000
DTEND;TZID=Asia/Kuala_Lumpur:20220517T170000
SEQUENCE:0
TRANSP:OPAQUE
END:VEVENT
END:VCALENDAR