BEGIN:VCALENDAR
VERSION:2.0
PRODID:-//jEvents 2.0 for Joomla//EN
CALSCALE:GREGORIAN
METHOD:PUBLISH
BEGIN:VTIMEZONE
TZID:Asia/Kuala_Lumpur
BEGIN:STANDARD
DTSTART:20210403T080000
RDATE:20380119T111407
TZOFFSETFROM:+0800
TZOFFSETTO:+0800
TZNAME:Asia/Kuala_Lumpur +08
END:STANDARD
END:VTIMEZONE
BEGIN:VEVENT
UID:63baf931a657443741f3818b4e419bed
CATEGORIES:Maritime 
SUMMARY:Singapore Maritime Week 2022
LOCATION:Hybrid (Physical event will be held at Marina Bay Sands Expo & Convention C
 entre)
DESCRIPTION;ENCODING=QUOTED-PRINTABLE:\n\nThe Singapore Maritime Week returns from 4 – 8 April 2022 for another e
 xciting edition of conferences, exhibitions and networking on the theme “Tr
 ansformation for Growth”. Hear from leading industry and government leaders
  on the latest maritime trends such as global supply chains, sustainability
 , digitalisation, talent and more. Explore diverse marine technologies and 
 meet innovative startups and companies at the brand new MarineTech Exhibiti
 on.\n\n\n \n
X-EXTRAINFO:Email: This email address is being protected from spambots. You need JavaSc
 ript enabled to view it.
 //
 \nURL: https://www.smw.sg/
DTSTAMP:20260421T063949Z
DTSTART;TZID=Asia/Kuala_Lumpur:20220404T080000
DTEND;TZID=Asia/Kuala_Lumpur:20220408T170000
SEQUENCE:0
TRANSP:OPAQUE
END:VEVENT
END:VCALENDAR