BEGIN:VCALENDAR
VERSION:2.0
PRODID:-//jEvents 2.0 for Joomla//EN
CALSCALE:GREGORIAN
METHOD:PUBLISH
BEGIN:VTIMEZONE
TZID:Asia/Kuala_Lumpur
BEGIN:STANDARD
DTSTART:20201129T080000
RDATE:20380119T111407
TZOFFSETFROM:+0800
TZOFFSETTO:+0800
TZNAME:Asia/Kuala_Lumpur +08
END:STANDARD
END:VTIMEZONE
BEGIN:VEVENT
UID:9c7b05fdcb2856799bf5dc204e6a474e
CATEGORIES:Oil & Gas
SUMMARY:21st World LNG Summit & Awards 2021
LOCATION:Rome, Italy
DESCRIPTION;ENCODING=QUOTED-PRINTABLE:\n\nThe 21st World LNG Summit & Awards will take place in person at the Rom
 e Cavalieri Hotel from 30 November – 3 December 2021, providing a platform 
 to reconnect the entire LNG & gas value chain under one roof and evaluate w
 hat’s next for the global LNG business.\n\n\nUnder the theme, ‘Redefining L
 NG for the 2020s in a Decarbonising World’, the 21st World LNG Summit & Awa
 rds will address how the industry can adapt and decarbonise LNG to avoid an
 d reduce existing GHG emissions in the LNG supply chain. From evolving comm
 ercial models to the opening of new markets, be part of what will be one of
  the most important conversations yet for the future of the global LNG & ga
 s industry.\n\n\nAt dmg events we are working closely with all stakeholders
  and local partners to ensure a safe and secure event in December, and we a
 re looking forward to reconvening the LNG & Gas industry in Rome.\n
X-EXTRAINFO:https://www.worldlngsummit.com/?utm_source=Mudrock&utm_medium=Banner&utm_ca
 mpaign=Media%20Partner
DTSTAMP:20260421T050614Z
DTSTART;TZID=Asia/Kuala_Lumpur:20211130T080000
DTEND;TZID=Asia/Kuala_Lumpur:20211130T170000
SEQUENCE:0
TRANSP:OPAQUE
END:VEVENT
END:VCALENDAR