BEGIN:VCALENDAR
VERSION:2.0
PRODID:-//jEvents 2.0 for Joomla//EN
CALSCALE:GREGORIAN
METHOD:PUBLISH
BEGIN:VTIMEZONE
TZID:Asia/Kuala_Lumpur
BEGIN:STANDARD
DTSTART:20210930T080000
RDATE:20380119T111407
TZOFFSETFROM:+0800
TZOFFSETTO:+0800
TZNAME:Asia/Kuala_Lumpur +08
END:STANDARD
END:VTIMEZONE
BEGIN:VEVENT
UID:decb028efb80293fb1dec87b13ef2980
CATEGORIES:Oil & Gas
SUMMARY:Oil & Gas Thailand (OGET) 2022
LOCATION:BITEC, Bangkok, Thailand
DESCRIPTION;ENCODING=QUOTED-PRINTABLE: 11th Edition of Oil & Gas Thailand 2021\nThe only specialized oil & gas an
 d petrochemical events in Thailand that brings together an international co
 ngregation of both upstream and downstream oil and gas and petrochemical co
 mpanies and also its supporting industries gathered in the capital city of 
 Bangkok, Thailand to showcase the latest technology and developments in the
  oil and gas and petrochemical industry.\n\n\n \nHighlight 11th Edition of 
 Oil & Gas Thailand 2021\n  A specialized exhibition covering 3000 sqm of sp
 ace by quality exhibitors.  Meet the buyers directly at their door step.  I
 ndustry Networking Lunch.  Showcasing the latest innovations and solutions 
 from Oil & Gas companies.\n \n \nContact Info\nOfficial Website : www.oilga
 sthai.com\nFacebook : www.facebook.com/OGETThailand\n\n\nE-mail : This emai
 l address is being protected from spambots. You need JavaScript enabled to 
 view it.
 //
 \nTel : (+66) 2 513 1418\n
DTSTAMP:20260421T034848Z
DTSTART;TZID=Asia/Kuala_Lumpur:20221001T080000
DTEND;TZID=Asia/Kuala_Lumpur:20221001T170000
SEQUENCE:0
TRANSP:OPAQUE
END:VEVENT
END:VCALENDAR