BEGIN:VCALENDAR
VERSION:2.0
PRODID:-//jEvents 2.0 for Joomla//EN
CALSCALE:GREGORIAN
METHOD:PUBLISH
BEGIN:VTIMEZONE
TZID:Asia/Kuala_Lumpur
BEGIN:STANDARD
DTSTART:20210930T080000
RDATE:20380119T111407
TZOFFSETFROM:+0800
TZOFFSETTO:+0800
TZNAME:Asia/Kuala_Lumpur +08
END:STANDARD
END:VTIMEZONE
BEGIN:VEVENT
UID:a1e2367aebb1111bca6e48689bf924fb
CATEGORIES:Maritime 
SUMMARY:Thailand Marine & Offshore Expo (TMOX) 2022
LOCATION:BITEC, Bangkok, Thailand
DESCRIPTION;ENCODING=QUOTED-PRINTABLE:\n\n\n"The 6th Edition of Thailand's Premier Maritime & Offshore Technology
  Exhibition!"\nThailand Marine & Offshore Expo 2021 (TMOX) is an internatio
 nal maritime and offshore industrial event that brings an international con
 gregation of companies together in Bangkok, Thailand. This unique event whi
 ch seeks to bring together more than 8,000 industry professionals to tackle
  the pertinent concerns of the booming offshore, Oil & Gas, shipbuilding an
 d maritime industries in Thailand, from its technological front to the chan
 ging market trends.\nThe international character of Thailand Marine & Offsh
 ore Expo 2021 (TMOX) presents unparalleled marketing, education and network
 ing opportunities. Thailand Marine & Offshore Expo 2021 (TMOX) offers you t
 he ideal platform to explore new maritime, offshore, Oil & Gas and shipbuil
 ding opportunities in Thailand and penetrate emerging markets in South-East
  Asia!\n\n\n \nHighlight of Thailand Marine & Offshore Expo 2021:\n\n - A s
 pecialized exhibition covering 3000 sqm of space by quality exhibitors.\n -
  Meet the buyers directly at their door step.\n - Industry Networking Lunch
 .\n - Showcasing the latest innovations and solutions from Marine & Offshor
 e companies.\n - Thailand Maritime Week 2021 Conference.\n\n \nContact Info
 \nOfficial Website : www.thai-marine.com\nFacebook : www.facebook.com/TMOXT
 hailand\n\n\nE-mail : This email address is being protected from spambots. 
 You need JavaScript enabled to view it.
 //
 \nTel : (+66) 2 513 1418\n
DTSTAMP:20260421T034536Z
DTSTART;TZID=Asia/Kuala_Lumpur:20221001T080000
DTEND;TZID=Asia/Kuala_Lumpur:20221001T170000
SEQUENCE:0
TRANSP:OPAQUE
END:VEVENT
END:VCALENDAR