BEGIN:VCALENDAR
VERSION:2.0
PRODID:-//jEvents 2.0 for Joomla//EN
CALSCALE:GREGORIAN
METHOD:PUBLISH
BEGIN:VTIMEZONE
TZID:Asia/Kuala_Lumpur
BEGIN:STANDARD
DTSTART:20210208T080000
RDATE:20380119T111407
TZOFFSETFROM:+0800
TZOFFSETTO:+0800
TZNAME:Asia/Kuala_Lumpur +08
END:STANDARD
END:VTIMEZONE
BEGIN:VEVENT
UID:4ec22bafd3c41d7860eac5dec20bb7b1
CATEGORIES:Oil & Gas
SUMMARY:Egyptian Chemicals & Laboratory Equipment Exhibition & Conference (CHEMLAB) 2022
LOCATION:Egypt International Exhibition Center
DESCRIPTION;ENCODING=QUOTED-PRINTABLE:dmg events, organisers of the Egypt Petroleum Show (EGYPS), PLASTEX and the
  Abu Dhabi International Petroleum Exhibition and Conference (ADIPEC), prou
 dly announces the Egyptian Chemicals & Laboratory Equipment Exhibition & Co
 nference (CHEMLAB) specialising in chemicals manufacturing and laboratory e
 quipment across all industry verticals.\n\n\n \nThe global chemicals and la
 boratory industry contributes $5.7 trillion and supports 120 million jobs w
 ith chemicals and laboratory equipment and services being the third largest
  segment in Egypt. The region has the largest industrial base in the Middle
  East and North Africa due to its strategic geographic location and proximi
 ty to high consuming markets, ensuring Egypt’s position to play a pivotal r
 ole in the development of the domestic and MEA region’s chemicals and labor
 atory industry.\n\n\n \n\n\nTaking place from 9 – 11 January 2022 at the Eg
 ypt International Exhibition Center, CHEMLAB will connect international, re
 gional and local companies, business leaders, innovators, decision and poli
 cymakers for face-to-face business conversations crucial to accelerating in
 vestment and trade across the chemicals and laboratory equipment value chai
 n in Egypt, North Africa and the Middle East.\n
X-EXTRAINFO:This email address is being protected from spambots. You need JavaScript en
 abled to view it.
 //
 
DTSTAMP:20260421T034450Z
DTSTART;TZID=Asia/Kuala_Lumpur:20220209T080000
DTEND;TZID=Asia/Kuala_Lumpur:20220211T170000
SEQUENCE:0
TRANSP:OPAQUE
END:VEVENT
END:VCALENDAR