BEGIN:VCALENDAR
VERSION:2.0
PRODID:-//jEvents 2.0 for Joomla//EN
CALSCALE:GREGORIAN
METHOD:PUBLISH
BEGIN:VTIMEZONE
TZID:Asia/Kuala_Lumpur
BEGIN:STANDARD
DTSTART:20200727T080000
RDATE:20380119T111407
TZOFFSETFROM:+0800
TZOFFSETTO:+0800
TZNAME:Asia/Kuala_Lumpur +08
END:STANDARD
END:VTIMEZONE
BEGIN:VEVENT
UID:b1bcb5af439cefd5fbca536f8e8d81f4
CATEGORIES:Energy
SUMMARY:Global Infrastructure Investment Forum (GIIF) 2021
LOCATION:Indonesia
DESCRIPTION;ENCODING=QUOTED-PRINTABLE:\n\nIn order to support the government program to accelerate infrastructure
  development planning and implementation in Indonesia. On Us Asia Strategic
  Digital Event Partner is proud to bring you a special virtual event progra
 m, called “Global Infrastructure Investment Forum (GIIF) 2021” which will b
 e held on 28 - 29 July 2021.\n
CONTACT:virtual event -Zoom Application
DTSTAMP:20260421T110622Z
DTSTART;TZID=Asia/Kuala_Lumpur:20210728T080000
DTEND;TZID=Asia/Kuala_Lumpur:20210729T170000
SEQUENCE:0
TRANSP:OPAQUE
END:VEVENT
END:VCALENDAR