BEGIN:VCALENDAR
VERSION:2.0
PRODID:-//jEvents 2.0 for Joomla//EN
CALSCALE:GREGORIAN
METHOD:PUBLISH
BEGIN:VTIMEZONE
TZID:Asia/Kuala_Lumpur
BEGIN:STANDARD
DTSTART:20140623T000000
RDATE:20380119T111407
TZOFFSETFROM:+0800
TZOFFSETTO:+0800
TZNAME:Asia/Kuala_Lumpur +08
END:STANDARD
END:VTIMEZONE
BEGIN:VEVENT
UID:8ba8c91523ca3b96faea66247e197877
CATEGORIES:Oil & Gas
SUMMARY:ENEX 2015 - New Zealand's Oil & Gas Event
LOCATION:New Plymouth, New Zealand
DESCRIPTION;ENCODING=QUOTED-PRINTABLE:\n\n ENEX once again delivered a great platform for the industry to engage;
  providing a wealth of practical information, educational sessions and comm
 ercial opportunities.ENEX brought together over 50 speakers from across New
  Zealand and the Globe. Our international practitioners and experts came fr
 om 5 continents, with speakers from the USA, Brazil, Norway, Korea and Aust
 ralia.Watch this page for announcements about ENEX in 2015, and the dates w
 ill be announced soon.........find out more\n
X-EXTRAINFO:http://www.conferenz.co.nz/conferences/enex-2015-new-zealands-oil-gas-event
DTSTAMP:20260421T130007Z
DTSTART;TZID=Asia/Kuala_Lumpur;VALUE=DATE:20150624
DTEND;TZID=Asia/Kuala_Lumpur;VALUE=DATE:20150626
SEQUENCE:0
TRANSP:OPAQUE
END:VEVENT
END:VCALENDAR