BEGIN:VCALENDAR
VERSION:2.0
PRODID:-//jEvents 2.0 for Joomla//EN
CALSCALE:GREGORIAN
METHOD:PUBLISH
BEGIN:VTIMEZONE
TZID:Asia/Kuala_Lumpur
BEGIN:STANDARD
DTSTART:20201102T080000
RDATE:20380119T111407
TZOFFSETFROM:+0800
TZOFFSETTO:+0800
TZNAME:Asia/Kuala_Lumpur +08
END:STANDARD
END:VTIMEZONE
BEGIN:VEVENT
UID:13541bcfc0f9aaecf5f2697ea2f209e3
CATEGORIES:Oil & Gas
SUMMARY:OSEA 2021
LOCATION:Singapore
DESCRIPTION;ENCODING=QUOTED-PRINTABLE:
CONTACT:VIRTUAL EXHIBITION
X-EXTRAINFO:https://www.osea-asia.com/
DTSTAMP:20260421T051217Z
DTSTART;TZID=Asia/Kuala_Lumpur:20211103T080000
DTEND;TZID=Asia/Kuala_Lumpur:20211105T170000
SEQUENCE:0
TRANSP:OPAQUE
END:VEVENT
END:VCALENDAR