BEGIN:VCALENDAR
VERSION:2.0
PRODID:-//jEvents 2.0 for Joomla//EN
CALSCALE:GREGORIAN
METHOD:PUBLISH
BEGIN:VTIMEZONE
TZID:Asia/Kuala_Lumpur
BEGIN:STANDARD
DTSTART:20210913T100000
RDATE:20380119T111407
TZOFFSETFROM:+0800
TZOFFSETTO:+0800
TZNAME:Asia/Kuala_Lumpur +08
END:STANDARD
END:VTIMEZONE
BEGIN:VEVENT
UID:ff7414dadaec83897d19758faf1d9506
CATEGORIES:Oil & Gas
SUMMARY:Oil & Gas Indonesia 2022
LOCATION:Jakarta International Expo (JIEXPO), Kemayoran, Indonesia
DESCRIPTION;ENCODING=QUOTED-PRINTABLE:\n\nPT Pamerindo Indonesia has decided to reschedule the next edition of Oi
 l & Gas Indonesia (OGI) from 17 – 20 November 2021 to 14 – 17 September 202
 2 at the Jakarta International Expo (JIEXPO). The show will be co-located w
 ith Electric & Power Indonesia, Marintec Indonesia, Mining Indonesia, Const
 ruction Indonesia, and Concrete Show South East Asia under the Indonesia En
 ergy & Engineering Exhibition Series.\n\n\n \nFor further information, plea
 se visit: https://www.oilgasindonesia.com/\n
CONTACT:FREE MAP DISTRIBUTION
DTSTAMP:20260421T034409Z
DTSTART;TZID=Asia/Kuala_Lumpur:20220914T100000
DTEND;TZID=Asia/Kuala_Lumpur:20220917T170000
SEQUENCE:0
TRANSP:OPAQUE
END:VEVENT
END:VCALENDAR