BEGIN:VCALENDAR
VERSION:2.0
PRODID:-//jEvents 2.0 for Joomla//EN
CALSCALE:GREGORIAN
METHOD:PUBLISH
BEGIN:VTIMEZONE
TZID:Asia/Kuala_Lumpur
BEGIN:STANDARD
DTSTART:20210308T080000
RDATE:20380119T111407
TZOFFSETFROM:+0800
TZOFFSETTO:+0800
TZNAME:Asia/Kuala_Lumpur +08
END:STANDARD
END:VTIMEZONE
BEGIN:VEVENT
UID:f4ad5dd3444c83a4cf072bc6bf2aca83
CATEGORIES:Renewable Energy
SUMMARY:Wind Energy Asia 2022
LOCATION:Kaohsiung Exhibition Center(No.39, Chenggong 2nd Road, Qianzhen Dist., Kaoh
 siung 806, Taiwan, ROC)
DESCRIPTION;ENCODING=QUOTED-PRINTABLE:
X-EXTRAINFO:https://www.windenergy-asia.com/en/index.html
DTSTAMP:20260421T035038Z
DTSTART;TZID=Asia/Kuala_Lumpur:20220309T080000
DTEND;TZID=Asia/Kuala_Lumpur:20220311T170000
SEQUENCE:0
TRANSP:OPAQUE
END:VEVENT
END:VCALENDAR