BEGIN:VCALENDAR
VERSION:2.0
PRODID:-//jEvents 2.0 for Joomla//EN
CALSCALE:GREGORIAN
METHOD:PUBLISH
BEGIN:VTIMEZONE
TZID:Asia/Kuala_Lumpur
BEGIN:STANDARD
DTSTART:20200404T080000
RDATE:20380119T111407
TZOFFSETFROM:+0800
TZOFFSETTO:+0800
TZNAME:Asia/Kuala_Lumpur +08
END:STANDARD
END:VTIMEZONE
BEGIN:VEVENT
UID:32ccffa511b13f7b9ab9d65b41a5d700
CATEGORIES:Oil & Gas
SUMMARY:Re-Imagining Malaysia Assets, RESET 2021
DESCRIPTION;ENCODING=QUOTED-PRINTABLE:\n\nRe-Imagining Malaysia Assets, RESET 2021 is an inaugural technology-bas
 ed virtual event hosted by PETRONAS Carigali Sdn Bhd, a subsidiary of PETRO
 NAS. The event is driven by the Society of Petroleum Engineers Kuala Lumpur
  (SPE KL) in collaboration with the Malaysian Oil & Gas Services Council (M
 OGSC) and Informa Markets.\n\n\nRESET embodies the call for communities acr
 oss industries to collectively embrace transition and continuously evolve t
 o elevate the industry to new levels of resilience. This four day industry 
 collaborative effort will deliver high quality content, feature a vibrant m
 arketplace while highlighting its AI-powered networking potential for deleg
 ates.\n\n\nThe organising committee warmly welcomes your participation and 
 support, and looks forward to having you with us at RESET 2021.\n
CONTACT:Virtual Event
X-EXTRAINFO:https://www.reset-upstream.com/
DTSTAMP:20260421T050621Z
DTSTART;TZID=Asia/Kuala_Lumpur:20210405T080000
DTEND;TZID=Asia/Kuala_Lumpur:20210408T170000
SEQUENCE:0
TRANSP:OPAQUE
END:VEVENT
END:VCALENDAR