BEGIN:VCALENDAR
VERSION:2.0
PRODID:-//jEvents 2.0 for Joomla//EN
CALSCALE:GREGORIAN
METHOD:PUBLISH
BEGIN:VTIMEZONE
TZID:Asia/Kuala_Lumpur
BEGIN:STANDARD
DTSTART:20200324T080000
RDATE:20380119T111407
TZOFFSETFROM:+0800
TZOFFSETTO:+0800
TZNAME:Asia/Kuala_Lumpur +08
END:STANDARD
END:VTIMEZONE
BEGIN:VEVENT
UID:48a9417272e1a9ff2d767f4728f0af6f
CATEGORIES:Oil & Gas
SUMMARY:3rd Timor-Leste Oil, Gas and Energy Summit 2021
DESCRIPTION;ENCODING=QUOTED-PRINTABLE:\n\nThe next big opportunity in South East Asia\n​\nThe most promising prod
 ucer in Southern Asia\n\n\nGreat offshore & onshore opportunities are being
  created as more of the country opens for exploration.\n\n\nMajor explorati
 on opportunities and contracts are on the way as Timor Leste’s oil & gas in
 dustry is undergoing significant growth at an increased rate, thanks to ANP
 M.\n\n\nAn example of regional cooperation\n\n\nTimor Leste is one of the m
 ost prominent examples of successful international and government-IOC coope
 ration in the world, building an impressive network of cooperation with Aus
 tralia and participating NOCs, in order to make optimal use of the signific
 ant offshore reserves.\n\n\nOffshore Greater Sunrise: A $75 billion oil and
  gas giant​\n\n\nTimor Leste is the majority shareholder in the Greater Sun
 rise fields, containing more than 5.13 trillion cubic feet of gas, worth at
  least 50 billion dollars. The blocks contain 225.9 million barrels of cond
 ensate reserves, worth over $15 billion.\n\n\nAs the project is developing,
  major partnership opportunities are created in upstream and midstream. The
 se opportunities will be discussed in detail by Timor GAP on the first Timo
 r Oil & Gas Summit, following the highly successful $20 billion Bayu-Undan 
 offshore field.\n\n\nOnshore Timor-Leste: Exploration blocks are available,
  following successful operations ​\n\n\nAs onshore exploration begins at on
 shore blocks A & C in Timor Leste, independent assessments indicate that th
 e block contains more than 127 million barrels of recoverable oil, with the
  profits being $3.5 billion minimum, with the potential to triple as the on
 shore field reaches its potential.\n\n\n \n\n\nhttps://www.in-vr.co/timor-l
 este-online\n
CONTACT:ONLINE CONFERENCE
X-EXTRAINFO:https://www.in-vr.co/timor-leste-online
DTSTAMP:20260421T050612Z
DTSTART;TZID=Asia/Kuala_Lumpur:20210325T080000
DTEND;TZID=Asia/Kuala_Lumpur:20210325T180000
SEQUENCE:0
TRANSP:OPAQUE
END:VEVENT
END:VCALENDAR