BEGIN:VCALENDAR
VERSION:2.0
PRODID:-//jEvents 2.0 for Joomla//EN
CALSCALE:GREGORIAN
METHOD:PUBLISH
BEGIN:VTIMEZONE
TZID:Asia/Kuala_Lumpur
BEGIN:STANDARD
DTSTART:20200315T110000
RDATE:20380119T111407
TZOFFSETFROM:+0800
TZOFFSETTO:+0800
TZNAME:Asia/Kuala_Lumpur +08
END:STANDARD
END:VTIMEZONE
BEGIN:VEVENT
UID:061dd059c44ba0cc9133d5b30900b029
CATEGORIES:Renewable Energy
SUMMARY:EIC Connect Virtual Vietnam 2021
LOCATION:OnAir Platform 
DESCRIPTION;ENCODING=QUOTED-PRINTABLE:\n\n\n\n\nThe Energy Industries Council?s EIC Connect Energy Vietnam, live 
 on-screen on 16-17 March and we would urge you to take advantage of the 2-d
 ay conference programme as our guest.\n \nHear the operator and contractor 
 community address vendors, manufacturers and service suppliers to the vast 
 business opportunities available on future capital energy projects and exis
 ting assets in LNG, power and renewables in the region.\n \n400+ delegates 
 are due to be in attendance and the speaker programme consists of key conta
 cts from the major operators, developers and EPCs.\n \nOur team will be ava
 ilable for live chat and video calls at set exhibition times throughout the
  2-day conference programme.\n \nYou can register your place at the followi
 ng booking link now, https://www.the-eic.com/Events/EICConnect/VirtualVietn
 am and hope to see you there.\n
CONTACT:Virtual Event
X-EXTRAINFO:https://www.the-eic.com/Events/EICConnect/VirtualVietnam 
DTSTAMP:20260421T052306Z
DTSTART;TZID=Asia/Kuala_Lumpur:20210316T110000
DTEND;TZID=Asia/Kuala_Lumpur:20210317T184500
SEQUENCE:0
TRANSP:OPAQUE
END:VEVENT
END:VCALENDAR