BEGIN:VCALENDAR
VERSION:2.0
PRODID:-//jEvents 2.0 for Joomla//EN
CALSCALE:GREGORIAN
METHOD:PUBLISH
BEGIN:VTIMEZONE
TZID:Asia/Kuala_Lumpur
BEGIN:STANDARD
DTSTART:20200824T080000
RDATE:20380119T111407
TZOFFSETFROM:+0800
TZOFFSETTO:+0800
TZNAME:Asia/Kuala_Lumpur +08
END:STANDARD
END:VTIMEZONE
BEGIN:VEVENT
UID:a2580b691c56b735260aca18d2587cee
CATEGORIES:Energy
SUMMARY:Future Energy Asia (FEA 2021)
LOCATION:Virtual Event
DESCRIPTION;ENCODING=QUOTED-PRINTABLE:\n\nFuture Energy Asia is Asia’s leading energy transition and transformati
 on exhibition and summit. Officially hosted by the Ministry of Energy Thail
 and and co-hosted by EGAT and PTT, the exhibition and summit will take plac
 e virtually from 25 to 27 August 2021.\n\n\n \n\n\nAs we look to 2021, inve
 stment and demand growth are all set to accelerate. Future Energy Asia 2021
  is best placed to connect you to the leading Asian Energy stakeholders and
  buyers driving the region’s energy transition mission forward.\n
CONTACT:FREE MAP DISTRIBUTION
X-EXTRAINFO:https://www.futureenergyasia.com/
DTSTAMP:20260421T050624Z
DTSTART;TZID=Asia/Kuala_Lumpur:20210825T080000
DTEND;TZID=Asia/Kuala_Lumpur:20210827T170000
SEQUENCE:0
TRANSP:OPAQUE
END:VEVENT
END:VCALENDAR