BEGIN:VCALENDAR
VERSION:2.0
PRODID:-//jEvents 2.0 for Joomla//EN
CALSCALE:GREGORIAN
METHOD:PUBLISH
BEGIN:VTIMEZONE
TZID:Asia/Kuala_Lumpur
BEGIN:STANDARD
DTSTART:20200119T080000
RDATE:20380119T111407
TZOFFSETFROM:+0800
TZOFFSETTO:+0800
TZNAME:Asia/Kuala_Lumpur +08
END:STANDARD
END:VTIMEZONE
BEGIN:VEVENT
UID:3eb154455f9265151396175298f64871
CATEGORIES:Oil & Gas
SUMMARY:Mediterranean Gas & Energy Week 2021
DESCRIPTION;ENCODING=QUOTED-PRINTABLE:
CONTACT:ONLINE CONFERENCE
X-EXTRAINFO:https://www.in-vr.co/med-online
DTSTAMP:20260421T081241Z
DTSTART;TZID=Asia/Kuala_Lumpur:20210119T080000
DTEND;TZID=Asia/Kuala_Lumpur:20210121T170000
SEQUENCE:0
TRANSP:OPAQUE
END:VEVENT
END:VCALENDAR