BEGIN:VCALENDAR
VERSION:2.0
PRODID:-//jEvents 2.0 for Joomla//EN
CALSCALE:GREGORIAN
METHOD:PUBLISH
BEGIN:VTIMEZONE
TZID:Asia/Kuala_Lumpur
BEGIN:STANDARD
DTSTART:20130226T000000
RDATE:20380119T111407
TZOFFSETFROM:+0800
TZOFFSETTO:+0800
TZNAME:Asia/Kuala_Lumpur +08
END:STANDARD
END:VTIMEZONE
BEGIN:VEVENT
UID:cae28988fd5ba6b654315d5794c1879b
CATEGORIES:Oil & Gas
SUMMARY:Kazakhstan Oil & Gas Summit
LOCATION:Atyrau
DESCRIPTION;ENCODING=QUOTED-PRINTABLE:            THE KAZAKHSTAN OIL AND GAS SUMMIT 2014!\n\nThe Kazakhstan Oil a
 nd Gas Summit 2014 is a unique chance to look at the exciting developments 
 and opportunities arising across all aspects of Kazakhstan’s oil and gas se
 ctor.This conference and exhibition includes high-level presentations and w
 orkshops on current and future oil and gas projects across Kazakhstan. Dele
 gates will have unprecedented access to Kazakhstan’s oil and gas industry a
 nd will hear from the key decision makers driving Kazakhstan’s oil and gas 
 industry.\n
DTSTAMP:20260421T143723Z
DTSTART;TZID=Asia/Kuala_Lumpur;VALUE=DATE:20140227
DTEND;TZID=Asia/Kuala_Lumpur;VALUE=DATE:20140301
SEQUENCE:0
TRANSP:OPAQUE
END:VEVENT
END:VCALENDAR