BEGIN:VCALENDAR
VERSION:2.0
PRODID:-//jEvents 2.0 for Joomla//EN
CALSCALE:GREGORIAN
METHOD:PUBLISH
BEGIN:VTIMEZONE
TZID:Asia/Kuala_Lumpur
BEGIN:STANDARD
DTSTART:20200622T080000
RDATE:20380119T111407
TZOFFSETFROM:+0800
TZOFFSETTO:+0800
TZNAME:Asia/Kuala_Lumpur +08
END:STANDARD
END:VTIMEZONE
BEGIN:VEVENT
UID:500a149f4162a3f4a1ab5d01c3493a50
CATEGORIES:Oil & Gas
SUMMARY:7th China LNG & Gas International Exhibition & Summit 2021
LOCATION:Shanghai, China
DESCRIPTION;ENCODING=QUOTED-PRINTABLE:\n\nThe Leading International Exhibition & Summit for the LNG & Gas Industr
 y in China\n\n\nFollowing on from a successful 6th edition, which ran in-pe
 rson in October 2020, and was attended by over 1000 energy professionals, t
 he China LNG & Gas International Exhibition & Summit is now firmly establis
 hed as the key annual convening platform in China for the global LNG, gas a
 nd energy industry. dmg events are pleased to announce the 7th China LNG & 
 Gas International Exhibition & Summit will be returning to Shanghai from 23
  – 25 June 2021 to once again bring together the key players from across th
 e global LNG & gas industry to China.\n\n\nNew for 2021, a Technical Confer
 ence will run in parallel to the renowned Strategic Conference. The China L
 NG & Gas Technical Conference will bring together gas and LNG professionals
  from across the globe, to establish a learning and networking hub, address
  and discuss the latest issues, breakthrough research findings, innovative 
 technologies and industry solutions.\n\n\nDon’t miss out on the opportunity
  to collaborate and connect with other industry thought leaders on strategi
 es that will help shape the changing LNG and gas landscape in China.\n
X-EXTRAINFO:https://www.chinalnggas.com/
DTSTAMP:20260421T050612Z
DTSTART;TZID=Asia/Kuala_Lumpur:20210623T080000
DTEND;TZID=Asia/Kuala_Lumpur:20210625T170000
SEQUENCE:0
TRANSP:OPAQUE
END:VEVENT
END:VCALENDAR