BEGIN:VCALENDAR
VERSION:2.0
PRODID:-//jEvents 2.0 for Joomla//EN
CALSCALE:GREGORIAN
METHOD:PUBLISH
BEGIN:VTIMEZONE
TZID:Asia/Kuala_Lumpur
BEGIN:STANDARD
DTSTART:20211121T080000
RDATE:20380119T111407
TZOFFSETFROM:+0800
TZOFFSETTO:+0800
TZNAME:Asia/Kuala_Lumpur +08
END:STANDARD
END:VTIMEZONE
BEGIN:VEVENT
UID:23a53ae3f7cacaf4f69d3317fa681a46
CATEGORIES:Energy
SUMMARY:INTERNATIONAL ENERGY WEEK 2022 (IEW'22)
LOCATION:Borneo Convention Center, Kuching, Malaysia
DESCRIPTION;ENCODING=QUOTED-PRINTABLE:EW 2022 - International Energy Week 2022 has returned to spur new business 
 opportunities. Held at the Borneo Convention Centre Kuching, (BCCK) from 22
  to 24 November 2022, the Expo's fifth edition is set to be the Biggest Int
 ernational Exhibition and Conference for Malaysia's energy and petroleum in
 dustry. Hosted by the Ministry of Utilities Sarawak, the Industry Show will
  encompass related events such as Electro Power Asia 2022, Petroleum Asia 2
 022, Asia Infrastructure 2022 and the IEW 2022 Conference and Technology Sy
 mposium. An integrated event that is sure to generate numerous opportunitie
 s for a diverse range of interested individuals and groups, IEW 2022 will a
 lso highlight the development of the Sarawak Corridor of Renewable Energy (
 SCORE), the Pan Borneo Highway project and more.\nFind out more at www.iew.
 my\n
CONTACT:FREE MAP DISTRIBUTION
X-EXTRAINFO:http://www.iew.my/
DTSTAMP:20260421T034451Z
DTSTART;TZID=Asia/Kuala_Lumpur:20221122T080000
DTEND;TZID=Asia/Kuala_Lumpur:20221124T170000
SEQUENCE:0
TRANSP:OPAQUE
END:VEVENT
END:VCALENDAR