BEGIN:VCALENDAR
VERSION:2.0
PRODID:-//jEvents 2.0 for Joomla//EN
CALSCALE:GREGORIAN
METHOD:PUBLISH
BEGIN:VTIMEZONE
TZID:Asia/Kuala_Lumpur
BEGIN:STANDARD
DTSTART:20210213T140000
RDATE:20380119T111407
TZOFFSETFROM:+0800
TZOFFSETTO:+0800
TZNAME:Asia/Kuala_Lumpur +08
END:STANDARD
END:VTIMEZONE
BEGIN:VEVENT
UID:51ddef4cc0ab2a39a0eb7a861120a85a
CATEGORIES:Oil & Gas
SUMMARY:Egypt Petroleum Show (EGYPS) 2022
LOCATION:Cairo, The Egypt International Exhibition Center
DESCRIPTION;ENCODING=QUOTED-PRINTABLE:\n\n\n\n\nThe Egypt Petroleum Show is North Africa and the Mediterranean’s 
 most important oil and gas exhibition and conference held under the patrona
 ge of His Excellency Abdel Fattah El Sisi, President of the Arab Republic o
 f Egypt, where oil and gas professionals convene to engage in dialogue, cre
 ate partnerships, do business and identify solutions and strategies that wi
 ll reshape the global energy markets.\n\n\n \n\n\nEGYPS 2022 will take plac
 e in-person from 14 - 16 February 2022 in Cairo at the Egypt International 
 Exhibition Center with an expanded exhibition space attracting 26,000 atten
 dees from local & international businesses to identify opportunities from E
 gypt, North Africa and the Mediterranean’s future project requirements, str
 ategic priorities and gain insights into the wider oil and gas sector. EGYP
 S is a key platform in the energy calendar bringing together government rep
 resentatives, Global CEOs, NOCs, IOCs, International Service Providers, EPC
 s, consultants and financiers to address the evolving opportunities in glob
 al energy markets.\n
DTSTAMP:20260421T010503Z
DTSTART;TZID=Asia/Kuala_Lumpur:20220214T140000
DTEND;TZID=Asia/Kuala_Lumpur:20220216T190000
SEQUENCE:0
TRANSP:OPAQUE
END:VEVENT
END:VCALENDAR