BEGIN:VCALENDAR
VERSION:2.0
PRODID:-//jEvents 2.0 for Joomla//EN
CALSCALE:GREGORIAN
METHOD:PUBLISH
BEGIN:VTIMEZONE
TZID:Asia/Kuala_Lumpur
BEGIN:STANDARD
DTSTART:20200920T080000
RDATE:20380119T111407
TZOFFSETFROM:+0800
TZOFFSETTO:+0800
TZNAME:Asia/Kuala_Lumpur +08
END:STANDARD
END:VTIMEZONE
BEGIN:VEVENT
UID:56f9b43aaf00c5d2f9d216cd01347cfc
CATEGORIES:Maritime 
SUMMARY:Sea Asia 2021
LOCATION:Marina Bay Sands®, Singapore
DESCRIPTION;ENCODING=QUOTED-PRINTABLE:
X-EXTRAINFO:https://www.sea-asia.com/
DTSTAMP:20260421T052032Z
DTSTART;TZID=Asia/Kuala_Lumpur:20210921T080000
DTEND;TZID=Asia/Kuala_Lumpur:20210923T170000
SEQUENCE:0
TRANSP:OPAQUE
END:VEVENT
END:VCALENDAR