BEGIN:VCALENDAR
VERSION:2.0
PRODID:-//jEvents 2.0 for Joomla//EN
CALSCALE:GREGORIAN
METHOD:PUBLISH
BEGIN:VTIMEZONE
TZID:Asia/Kuala_Lumpur
BEGIN:STANDARD
DTSTART:20191201T080000
RDATE:20380119T111407
TZOFFSETFROM:+0800
TZOFFSETTO:+0800
TZNAME:Asia/Kuala_Lumpur +08
END:STANDARD
END:VTIMEZONE
BEGIN:VEVENT
UID:380326c8b65c18daf6592ec66ea29f17
CATEGORIES:Oil & Gas
SUMMARY:World LNG Virtual Summit & Awards 2020
LOCATION:Online
DESCRIPTION;ENCODING=QUOTED-PRINTABLE:\n\nA recently acquired event from CWC Group, dmg events announces the Worl
 d LNG Summit & Awards is going virtual, taking place 1 – 4 December 2020. T
 he Virtual Summit will continue to provide the forum for the global LNG & g
 as community to come together at the end of the year and set the agenda for
  the year ahead.\n\n\nWith a focus on LNG demand recovery and the role of g
 as in the energy transition, the World LNG Virtual Summit will bring togeth
 er the leaders of the global LNG & gas business to recap and align strategi
 es for the future. The Virtual Summit will replicate many of the features t
 hat the in-person has become known for over the past 21 years. In addition 
 to a purely business-focused programme featuring the who’s who of the globa
 l LNG & gas industry, it will also include the annual World LNG Awards Cere
 mony, masterclasses, live Q&A with speakers, interactive roundtable discuss
 ions and private meetings.\n
CONTACT:Virtual Event
DTSTAMP:20260421T055519Z
DTSTART;TZID=Asia/Kuala_Lumpur:20201201T080000
DTEND;TZID=Asia/Kuala_Lumpur:20201204T170000
SEQUENCE:0
TRANSP:OPAQUE
END:VEVENT
END:VCALENDAR