BEGIN:VCALENDAR
VERSION:2.0
PRODID:-//jEvents 2.0 for Joomla//EN
CALSCALE:GREGORIAN
METHOD:PUBLISH
BEGIN:VTIMEZONE
TZID:Asia/Kuala_Lumpur
BEGIN:STANDARD
DTSTART:20200309T080000
RDATE:20380119T111407
TZOFFSETFROM:+0800
TZOFFSETTO:+0800
TZNAME:Asia/Kuala_Lumpur +08
END:STANDARD
END:VTIMEZONE
BEGIN:VEVENT
UID:4090f1fb08a3ebe060dd5d618723298e
CATEGORIES:Oil & Gas
SUMMARY:AOG Energy 2021
LOCATION:Perth, Australia
DESCRIPTION;ENCODING=QUOTED-PRINTABLE:\n\nAs the industry continues to transition, so too has AOG. From 2021 and 
 beyond, what was the Australasian Oil & Gas Conference & Exhibition will no
 w be ‘AOG Energy’. Curated to reflect the evolution of oil and gas, AOG Ene
 rgy is a platform for showcasing innovation in all aspects, including the e
 nergy transition, and the importance of local capabilities in driving the i
 ndustry forward.\n
X-EXTRAINFO:https://aogexpo.com.au/
DTSTAMP:20260421T050612Z
DTSTART;TZID=Asia/Kuala_Lumpur:20210310T080000
DTEND;TZID=Asia/Kuala_Lumpur:20210311T170000
SEQUENCE:0
TRANSP:OPAQUE
END:VEVENT
END:VCALENDAR