BEGIN:VCALENDAR
VERSION:2.0
PRODID:-//jEvents 2.0 for Joomla//EN
CALSCALE:GREGORIAN
METHOD:PUBLISH
BEGIN:VTIMEZONE
TZID:Asia/Kuala_Lumpur
BEGIN:STANDARD
DTSTART:20140519T000000
RDATE:20380119T111407
TZOFFSETFROM:+0800
TZOFFSETTO:+0800
TZNAME:Asia/Kuala_Lumpur +08
END:STANDARD
END:VTIMEZONE
BEGIN:VEVENT
UID:9282de0b9247eb46c5a92b13f6ca56c5
CATEGORIES:Maritime 
SUMMARY:The 5th Edition of INAMARINE 2015 Jakarta
LOCATION:JIExpo Kemayoran, Jakarta - Indonesia
DESCRIPTION;ENCODING=QUOTED-PRINTABLE:\n\nThe resounding success of INAMARINE 2014, held along with INACOATING 20
 14, attracted 261 exhibiting companies from 15 countries, 12,940 trade atte
 ndees from over 21 countries and occupied total area 12,000 sqm gross, has 
 further proved as the Indonesia’s largest trade show for marine engineering
  & equipment, shipyards, shipbuilding and offshore. The Expo has become the
  most influence marketplace to boost sales and gain exposure as well as mee
 ting with key decision makers and potential buyers in maritime industry.\n\
 n\nAs the most influential and comprehensive event, INAMARINE 2015 taking p
 lace from 20 - 22 May 2015 at the Jakarta International Expo (JIExpo), Jaka
 rta – Indonesia will be expanded to be bigger and qualified networking plat
 form of the maritime industry to generate more qualified visitors and inter
 national platform. INAMARINE 2015 will be co-locating with INAWELDING 2015,
  INACOATING 2015 and IIML 2015 (Material Handling and Logistic).  It will b
 e notably serve as one of the world’s most prospective one-stop exhibition 
 for suppliers and any shipyard, shipbuilding, offshore, port, welding, coat
 ing and other related industries...find out more\n
CONTACT:FREE MAP DISTRIBUTION
X-EXTRAINFO:http://inamarine-exhibition.net/index.php
DTSTAMP:20260421T130323Z
DTSTART;TZID=Asia/Kuala_Lumpur;VALUE=DATE:20150520
DTEND;TZID=Asia/Kuala_Lumpur;VALUE=DATE:20150523
SEQUENCE:0
TRANSP:OPAQUE
END:VEVENT
END:VCALENDAR