BEGIN:VCALENDAR
VERSION:2.0
PRODID:-//jEvents 2.0 for Joomla//EN
CALSCALE:GREGORIAN
METHOD:PUBLISH
BEGIN:VTIMEZONE
TZID:Asia/Kuala_Lumpur
BEGIN:STANDARD
DTSTART:20191022T080000
RDATE:20380119T111407
TZOFFSETFROM:+0800
TZOFFSETTO:+0800
TZNAME:Asia/Kuala_Lumpur +08
END:STANDARD
END:VTIMEZONE
BEGIN:VEVENT
UID:aea019cbba3f1a973f0106f96936ee5b
CATEGORIES:Oil & Gas
SUMMARY:Africa Upstream, Gas & LNG Summit
DESCRIPTION;ENCODING=QUOTED-PRINTABLE:\n\nThe fastest growing LNG industry in Africa, Mozambique joins the Africa
  Upstream, Gas & LNG Summit to discuss major upcoming contracts\n\n\n\nWith
  tremendous natural gas reserves and more than 68 US companies signing cont
 racts to supply services for Mozambique’s $23 billion LNG processing plant 
 last month, the National Institute of Petroleum will be presenting Mozambiq
 ue’s latest and upcoming opportunities at IN-VR’s Africa Upstream, Gas & LN
 G Summit .\n\n\n\nAfrica’s biggest virtual oil & gas event\nFollowing the u
 nparalleled success of the Global E&P Summit, Africa’s governments are meet
 ing again at the Africa Upstream, Gas & LNG Summit, organised by IN-VR, glo
 bal leader in investment networking. Key government officials from Mozambiq
 ue, Namibia, Niger, South Africa, Mauritania, Guinea Conakry, Botswana, Gab
 on and more will present their Licensing Rounds, LNG mega-projects, and new
  midstream projects to Africa’s most-established investors and new players.
 \n\n\n\nAfrica’s largest online summit will take place on October 22nd, and
  will gather government officials, key IOCs, investors, and service provide
 rs that will present their new opportunities and solutions, and network wit
 h attendees online.\n\n\n\nWho is presenting at the Africa Upstream, Gas & 
 LNG Summit ?\n● Dr. Carlos Zacarias, President, National Institute of Petro
 leum, Mozambique\n● Maggy Shino, Petroleum Commissioner, Ministry of Mines 
 and Energy, Namibia\n● David Van Der Spuy, Acting General Manager, Petroleu
 m Agency SA, South Africa\n● Issifou Yari, General Director, SOBEH, Benin\n
 ● Ahmed Ag Mohamed, Director, Petroleum Resources Promotion Authority, AURE
 P,\nMali\n● Maidagi Dakaou, Head of Exploration & Production, Ministry of H
 ydrocarbons, Niger\n● Yann Pierre Yangari, Head of New Business, Strategy a
 nd Intelligence. Gabon Oil,\nGabon\n\n\n● Bakumbi Lovejoy Gift, Acting Dire
 ctor of Inspections and Monitoring, Botswana\nEnergy Regulatory Authority, 
 Botswana\n● Alkis Romeos, Commercial & New Business Development Economist, 
 Shell\n● Eyas Alhomouz, CEO, Petromal\n● Patrick Allman-Ward, CEO, Dana Gas
 \nand many more , soon to be announced!\n\n\n\nIN-VR: About the Organiser\n
 IN-VR is the leading organiser of government-backed oil & gas marketing cam
 paigns in the Mediterranean, North Africa, Balkans, Latin America and APAC 
 regions.\nWe support governments in their journey to become leading energy 
 producers, arranging more than 2200 B2B and B2G meetings annually, leading 
 to new contracts and partnerships all over the world.\n\n\n\nFor further in
 formation please visit:\nhttps://www.in-vr.co/africa-online\n\n\n\nOr conta
 ct:\nThis email address is being protected from spambots. You need JavaScri
 pt enabled to view it.
 //
 \n
CONTACT:Virtual Event
DTSTAMP:20260421T100248Z
DTSTART;TZID=Asia/Kuala_Lumpur:20201022T080000
DTEND;TZID=Asia/Kuala_Lumpur:20201022T170000
SEQUENCE:0
TRANSP:OPAQUE
END:VEVENT
END:VCALENDAR