BEGIN:VCALENDAR
VERSION:2.0
PRODID:-//jEvents 2.0 for Joomla//EN
CALSCALE:GREGORIAN
METHOD:PUBLISH
BEGIN:VTIMEZONE
TZID:Asia/Kuala_Lumpur
BEGIN:STANDARD
DTSTART:20190908T080000
RDATE:20380119T111407
TZOFFSETFROM:+0800
TZOFFSETTO:+0800
TZNAME:Asia/Kuala_Lumpur +08
END:STANDARD
END:VTIMEZONE
BEGIN:VEVENT
UID:62282955e998be596917d84de9e10c13
CATEGORIES:Energy
SUMMARY:Digital Indonesia International Geothermal Convention (DIIGC) 2020
DESCRIPTION;ENCODING=QUOTED-PRINTABLE:Indonesian Geothermal Association (INAGA), as the premier association for G
 eothermal industry in Indonesia is proud to bring you aspecial programs of 
 an virtual event that is called "Digital Indonesia International Geothermal
  Convention (DIIGC) 2020" which will be held 8 - 10 September 2020 in conju
 nction with the 20th INAGA Annual Scientific Meeting using Zoom Application
  as the platform.\n
CONTACT:Virtual Event
DTSTAMP:20260421T055530Z
DTSTART;TZID=Asia/Kuala_Lumpur:20200908T080000
DTEND;TZID=Asia/Kuala_Lumpur:20200910T170000
SEQUENCE:0
TRANSP:OPAQUE
END:VEVENT
END:VCALENDAR