BEGIN:VCALENDAR
VERSION:2.0
PRODID:-//jEvents 2.0 for Joomla//EN
CALSCALE:GREGORIAN
METHOD:PUBLISH
BEGIN:VTIMEZONE
TZID:Asia/Kuala_Lumpur
BEGIN:STANDARD
DTSTART:20210315T080000
RDATE:20380119T111407
TZOFFSETFROM:+0800
TZOFFSETTO:+0800
TZNAME:Asia/Kuala_Lumpur +08
END:STANDARD
END:VTIMEZONE
BEGIN:VEVENT
UID:7e54094e8a66c561c07fcddfe62f9f16
CATEGORIES:Maritime 
SUMMARY:Asia Pacific Maritime (APM) 2022
LOCATION:Marine Bay Sands, Halls A, B, C, D, E & F, Singapore
DESCRIPTION;ENCODING=QUOTED-PRINTABLE:
CONTACT:FREE MAP DISTRIBUTION -RESCHEDULED
X-EXTRAINFO:Website: https://www.apmaritime.com/\nContact email: This email address is 
 being protected from spambots. You need JavaScript enabled to view it.
 //

  \nTelephone: +65 6780 4602\n
DTSTAMP:20260421T034451Z
DTSTART;TZID=Asia/Kuala_Lumpur:20220316T080000
DTEND;TZID=Asia/Kuala_Lumpur:20220318T170000
SEQUENCE:0
TRANSP:OPAQUE
END:VEVENT
END:VCALENDAR