BEGIN:VCALENDAR
VERSION:2.0
PRODID:-//jEvents 2.0 for Joomla//EN
CALSCALE:GREGORIAN
METHOD:PUBLISH
BEGIN:VTIMEZONE
TZID:Asia/Kuala_Lumpur
BEGIN:STANDARD
DTSTART:20190907T080000
RDATE:20380119T111407
TZOFFSETFROM:+0800
TZOFFSETTO:+0800
TZNAME:Asia/Kuala_Lumpur +08
END:STANDARD
END:VTIMEZONE
BEGIN:VEVENT
UID:236bf6ccf1ede985ddc6b122745732fc
CATEGORIES:Oil & Gas
SUMMARY:Gastech Virtual Summit 2020
DESCRIPTION;ENCODING=QUOTED-PRINTABLE:\n\nRegister\n\n\nThe Gastech Virtual Summit will take place from 7 - 11 Se
 ptember 2020, with strategic and technical content streamed online, enablin
 g the Gas, LNG and Energy industries the opportunity to engage, as it adapt
 s and responds to the collective challenges and opportunities the industry 
 faces.\n\n\nRegisterFollowing the hugely successful 2020 call for papers an
 d rigorous process undertaken by the Gastech Governing Body to select the m
 ost insightful, topical and informative abstracts, the Gastech team have cu
 rated a cutting edge conference programme featuring exclusive participation
  and commentary from industry leaders on the post-pandemic energy landscape
  and ambitious decarbonisation targets, the very latest and peer-reviewed r
 esearch on new technologies and business strategies to help companies thriv
 e in challenging times and exclusive keynote addresses from globally renown
 ed leaders in the technology space.\n\n\n \n\n\nRegister Your Interest Here
 \n
CONTACT:Virtual Summit
X-EXTRAINFO:https://www.gastechevent.com/conference/register-your-interest-for-the-gast
 ech-virtual-summit/
DTSTAMP:20260421T055647Z
DTSTART;TZID=Asia/Kuala_Lumpur:20200907T080000
DTEND;TZID=Asia/Kuala_Lumpur:20200911T170000
SEQUENCE:0
TRANSP:OPAQUE
END:VEVENT
END:VCALENDAR