BEGIN:VCALENDAR
VERSION:2.0
PRODID:-//jEvents 2.0 for Joomla//EN
CALSCALE:GREGORIAN
METHOD:PUBLISH
BEGIN:VTIMEZONE
TZID:Asia/Kuala_Lumpur
BEGIN:STANDARD
DTSTART:20190609T080000
RDATE:20380119T111407
TZOFFSETFROM:+0800
TZOFFSETTO:+0800
TZNAME:Asia/Kuala_Lumpur +08
END:STANDARD
END:VTIMEZONE
BEGIN:VEVENT
UID:50fb68d32bff9a6448ebafea76d6f2ab
CATEGORIES:Oil & Gas
SUMMARY:World LNG Forum Online
DESCRIPTION;ENCODING=QUOTED-PRINTABLE:\n\n\n\n\nWORLD LNG FORUM – unprecedented LNG gathering online\n\n\nWith th
 e world facing restrictions due to the COVID-19 situation there is a clear 
 need for the global LNG community gathering. The networking experts at IGGS
  Group has come with a solution – on 9th of June, LNG community will be gat
 hered by what is described as gigantic LNG online gathering – The World LNG
  Forum.\n\n\nWorld LNG Forum Online is a global online networking forum ded
 icated to LNG industry. The online forum is designed to provide latest upda
 tes and often (considering the current situation) critical updates from the
  experts of this industry as well as to provide the much needed networking 
 possibilities to find the necessary service providers, manufacturers, suppl
 iers or consultants.\n\n\nFor more information you can visit: https://www.w
 orldlngforum.com/\n\n\nOrganizer: IGGS Group\n
CONTACT:Webinar
DTSTAMP:20260421T054753Z
DTSTART;TZID=Asia/Kuala_Lumpur:20200609T080000
DTEND;TZID=Asia/Kuala_Lumpur:20200609T170000
SEQUENCE:0
TRANSP:OPAQUE
END:VEVENT
END:VCALENDAR