BEGIN:VCALENDAR
VERSION:2.0
PRODID:-//jEvents 2.0 for Joomla//EN
CALSCALE:GREGORIAN
METHOD:PUBLISH
BEGIN:VTIMEZONE
TZID:Asia/Kuala_Lumpur
BEGIN:STANDARD
DTSTART:20190709T080000
RDATE:20380119T111407
TZOFFSETFROM:+0800
TZOFFSETTO:+0800
TZNAME:Asia/Kuala_Lumpur +08
END:STANDARD
END:VTIMEZONE
BEGIN:VEVENT
UID:6a32a7e3bfa16213b1c7cf40d61c343f
CATEGORIES:Oil & Gas
SUMMARY:Timor-Leste Oil & Gas Energy Online Summit
DESCRIPTION;ENCODING=QUOTED-PRINTABLE:\n\nTimor-Leste’s official Oil & Gas event goes online\n\n\n\n IN-VR is org
 anising the Timor-Leste Oil & Gas Energy Online Summit , taking place compl
 etely online and sponsored by SundaGas and Pacific Towing . All the profits
  will be donated to charity supporting their initiative to provide masks, g
 loves and necessities to groups in need.\n\n\n\n The online summit will tak
 e place on June 4th 2020, focusing on Timor-Leste's plans in the current oi
 l price landscape, new business opportunities in its 2nd Licensing Round , 
 exploration updates and new midstream projects .\n
CONTACT:Webinar
DTSTAMP:20260421T055530Z
DTSTART;TZID=Asia/Kuala_Lumpur:20200709T080000
DTEND;TZID=Asia/Kuala_Lumpur:20200709T170000
SEQUENCE:0
TRANSP:OPAQUE
END:VEVENT
END:VCALENDAR