BEGIN:VCALENDAR
VERSION:2.0
PRODID:-//jEvents 2.0 for Joomla//EN
CALSCALE:GREGORIAN
METHOD:PUBLISH
BEGIN:VTIMEZONE
TZID:Asia/Kuala_Lumpur
BEGIN:STANDARD
DTSTART:20190520T080000
RDATE:20380119T111407
TZOFFSETFROM:+0800
TZOFFSETTO:+0800
TZNAME:Asia/Kuala_Lumpur +08
END:STANDARD
END:VTIMEZONE
BEGIN:VEVENT
UID:c6265acb6204074b8720ed7597bb5aa1
CATEGORIES:Oil & Gas
SUMMARY:Mozambique Oil & Gas Energy Online Summit
DESCRIPTION;ENCODING=QUOTED-PRINTABLE:\n\nMozambique’s first charity Oil & Gas event goes online\n\n\n \n\n\nIN-V
 R is organising the Mozambique Oil & Gas Energy Online Summit , taking plac
 e completely online.  All the profits will be donated to Afrilanthropy supp
 orting their initiative to provide masks, gloves and necessities to Mozambi
 cans in need.\n\n\n \n\n\nThe online summit will take place on May 20th 202
 0, focusing on Mozambique's plans in the current oil price landscape, how C
 OVID-19 affects its market, new business opportunities in the Rovuma basin,
  LNG trains and new midstream projects. \n
CONTACT:Webinar
DTSTAMP:20260421T060227Z
DTSTART;TZID=Asia/Kuala_Lumpur:20200520T080000
DTEND;TZID=Asia/Kuala_Lumpur:20200520T170000
SEQUENCE:0
TRANSP:OPAQUE
END:VEVENT
END:VCALENDAR