BEGIN:VCALENDAR
VERSION:2.0
PRODID:-//jEvents 2.0 for Joomla//EN
CALSCALE:GREGORIAN
METHOD:PUBLISH
BEGIN:VTIMEZONE
TZID:Asia/Kuala_Lumpur
BEGIN:STANDARD
DTSTART:20190528T080000
RDATE:20380119T111407
TZOFFSETFROM:+0800
TZOFFSETTO:+0800
TZNAME:Asia/Kuala_Lumpur +08
END:STANDARD
END:VTIMEZONE
BEGIN:VEVENT
UID:b71002533077c231ee6c436dda5b795d
CATEGORIES:Oil & Gas
SUMMARY:Mexico Oil & Gas Energy Online Summit
DESCRIPTION;ENCODING=QUOTED-PRINTABLE:\n\n\nMexico’s first charity Oil & Gas event goes online\n\n\n \nIN-VR is o
 rganising the Mexico Oil & Gas EnergyOnline Summit , taking place completel
 y online. All the profits from the tickets will be donated to NGOs and char
 ities that support the doctors combating the Coronavirus, and the groups mo
 st affected in Mexico.\n\n\n \n\n\nThe online summit will take place on May
  28th 2020, focusing on Mexico's plans in the current oil price landscape, 
 how COVID-19 affects its market, new business opportunities in the  Cantare
 ll, Chontepec fields and new midstream projects.\n
CONTACT:Webinar
DTSTAMP:20260421T055429Z
DTSTART;TZID=Asia/Kuala_Lumpur:20200528T080000
DTEND;TZID=Asia/Kuala_Lumpur:20200528T170000
SEQUENCE:0
TRANSP:OPAQUE
END:VEVENT
END:VCALENDAR