BEGIN:VCALENDAR
VERSION:2.0
PRODID:-//jEvents 2.0 for Joomla//EN
CALSCALE:GREGORIAN
METHOD:PUBLISH
BEGIN:VTIMEZONE
TZID:Asia/Kuala_Lumpur
BEGIN:STANDARD
DTSTART:20190603T080000
RDATE:20380119T111407
TZOFFSETFROM:+0800
TZOFFSETTO:+0800
TZNAME:Asia/Kuala_Lumpur +08
END:STANDARD
END:VTIMEZONE
BEGIN:VEVENT
UID:fb2a6b93928555229d546bedbe7edffa
CATEGORIES:Oil & Gas
SUMMARY:Egypt Oil & Gas Energy Online Summit
DESCRIPTION;ENCODING=QUOTED-PRINTABLE:\n\n\n\n\nEgypt’s Oil, Gas Industry fights against Coronavirus\n\n\n \nIN-V
 R is organising the Egypt Oil & Gas Energy Online Summit , taking place com
 pletely online. All the profits will be donated to the Egyptian Food Bank ,
  supporting their initiative to provide food to more than 500,000 Egyptians
  in need.\nThe online summit will take place on June 3rd 2020, focusing on 
 Egypt's plans in the current oil price landscape, how COVID-19 affects its 
 market, new business opportunities in Zohr , Atol and new midstream project
 s .\n
CONTACT:Webinar
DTSTAMP:20260421T055519Z
DTSTART;TZID=Asia/Kuala_Lumpur:20200603T080000
DTEND;TZID=Asia/Kuala_Lumpur:20200603T170000
SEQUENCE:0
TRANSP:OPAQUE
END:VEVENT
END:VCALENDAR