BEGIN:VCALENDAR
VERSION:2.0
PRODID:-//jEvents 2.0 for Joomla//EN
CALSCALE:GREGORIAN
METHOD:PUBLISH
BEGIN:VTIMEZONE
TZID:Asia/Kuala_Lumpur
BEGIN:STANDARD
DTSTART:20190512T080000
RDATE:20380119T111407
TZOFFSETFROM:+0800
TZOFFSETTO:+0800
TZNAME:Asia/Kuala_Lumpur +08
END:STANDARD
END:VTIMEZONE
BEGIN:VEVENT
UID:e24928fad4cc4a71373b869fa528750e
CATEGORIES:Oil & Gas
SUMMARY:Argentina Oil, Gas & Energy Summit
DESCRIPTION;ENCODING=QUOTED-PRINTABLE:\n\n\n\n\nArgentina’s Oil, Gas Industry fights against CoronavirusIN-VR is 
 organising the Argentina Oil, Gas & Energy Summit under the Endorsement of 
 the British Argentine Chamber of Commerce, taking place completely online. 
 All the profits from the tickets will be donated to the British Hospital of
  Argentina, supporting the doctors combating the Coronavirus, and the group
 s most affected in Argentina.\n\n\n\n The online summit will take place on 
 May 12th 2020, focusing on Argentina's plans in the current oil price lands
 cape, how COVID-19 affects its market, Vaca Muerta - one of the largest sha
 le formations in the world, and Argentina's LNG plans.  \n
CONTACT:Webinar
DTSTAMP:20260421T100137Z
DTSTART;TZID=Asia/Kuala_Lumpur:20200512T080000
DTEND;TZID=Asia/Kuala_Lumpur:20200512T170000
SEQUENCE:0
TRANSP:OPAQUE
END:VEVENT
END:VCALENDAR