BEGIN:VCALENDAR
VERSION:2.0
PRODID:-//jEvents 2.0 for Joomla//EN
CALSCALE:GREGORIAN
METHOD:PUBLISH
BEGIN:VTIMEZONE
TZID:Asia/Kuala_Lumpur
BEGIN:STANDARD
DTSTART:20200309T080000
RDATE:20380119T111407
TZOFFSETFROM:+0800
TZOFFSETTO:+0800
TZNAME:Asia/Kuala_Lumpur +08
END:STANDARD
END:VTIMEZONE
BEGIN:VEVENT
UID:a0d6574c9c9e30c1dd7c649cb2cee557
CATEGORIES:Renewable Energy
SUMMARY:Wind Energy Asia 2021
LOCATION:Kaohsiung Exhibition Center in Kaohsiung, South Taiwan
DESCRIPTION;ENCODING=QUOTED-PRINTABLE:\n\nWind Energy Asia (WEA) is the largest and most international wind event
  (exhibition and forum) in Taiwan, and one of the top in Asia-Pacific. It c
 overs the whole range of products and services in the wind industry, both o
 nshore, offshore and floating. Given the government's increasing localizati
 on requirements for the awarding of wind contracts, WEA's objective is to a
 ssist in building an entire wind industry supply chain in Taiwan, which cou
 ld then extend to Asia-Pacific. Bucking the trend due to coronavirus, WEA 2
 020 grew by 50% and the organizer expects a similar expansion in 2021. Save
  the date: March 10-12, 2021 in Kaohsiung, Taiwan and check out www.windene
 rgy-asia.com for updated information.\n
CONTACT:Virtual Event
X-EXTRAINFO:https://www.windenergy-asia.com/en/index.html
DTSTAMP:20260421T051106Z
DTSTART;TZID=Asia/Kuala_Lumpur:20210310T080000
DTEND;TZID=Asia/Kuala_Lumpur:20210312T170000
SEQUENCE:0
TRANSP:OPAQUE
END:VEVENT
END:VCALENDAR