BEGIN:VCALENDAR
VERSION:2.0
PRODID:-//jEvents 2.0 for Joomla//EN
CALSCALE:GREGORIAN
METHOD:PUBLISH
BEGIN:VTIMEZONE
TZID:Asia/Kuala_Lumpur
BEGIN:STANDARD
DTSTART:20200607T080000
RDATE:20380119T111407
TZOFFSETFROM:+0800
TZOFFSETTO:+0800
TZNAME:Asia/Kuala_Lumpur +08
END:STANDARD
END:VTIMEZONE
BEGIN:VEVENT
UID:e07bce27e7cdec963896dcd43c920bfd
CATEGORIES:Energy
SUMMARY:4th Papua New Guinea Energy Summit 2021
LOCATION:Hilton - Port Moresby, Papua New Guinea
DESCRIPTION;ENCODING=QUOTED-PRINTABLE:<p><span style="color: #808080;"><span style="color: #808080;">A recently a
 cquired event from CWC Group, dmg events announces the return of the <stron
 g> 4th Papua New Guinea Energy Summit, </strong>in partnership with <strong
 >Kumul Petroleum Holdings Ltd. </strong>Taking place 8-10 June 2021 and end
 orsed by the <strong>Minister of Petroleum, Hon. Kerenga Gua, MP</strong>, 
 the Summit will, once again, bring senior government officials and major in
 dustry players working in PNG together to discuss current energy projects a
 nd future strategies for expansion. There will be a renewed focus on <stron
 g>local content development</strong> and in-country capacity building, part
 icularly in light of scheduled project development and expansions.</span></
 span></p>
X-EXTRAINFO:https://www.pngsummit.com/
DTSTAMP:20260421T051216Z
DTSTART;TZID=Asia/Kuala_Lumpur:20210608T080000
DTEND;TZID=Asia/Kuala_Lumpur:20210610T170000
SEQUENCE:0
TRANSP:OPAQUE
END:VEVENT
END:VCALENDAR