BEGIN:VCALENDAR
VERSION:2.0
PRODID:-//jEvents 2.0 for Joomla//EN
CALSCALE:GREGORIAN
METHOD:PUBLISH
BEGIN:VTIMEZONE
TZID:Asia/Kuala_Lumpur
BEGIN:STANDARD
DTSTART:20191012T080000
RDATE:20380119T111407
TZOFFSETFROM:+0800
TZOFFSETTO:+0800
TZNAME:Asia/Kuala_Lumpur +08
END:STANDARD
END:VTIMEZONE
BEGIN:VEVENT
UID:1d52e4fa83b49dfc44b5afd4b52ff783
CATEGORIES:Oil & Gas
SUMMARY:Flame 2020
LOCATION:Hotel Okura, Amsterdam, the Netherlands
DESCRIPTION;ENCODING=QUOTED-PRINTABLE:DUE TO THE ONGOING SITUATION WITH COVID-19, THE FLAME CONFERENCE HAS BEEN P
 OSTPONED UNTIL 12 - 13 OCTOBER 2020. Europe’s largest and most influential 
 meeting place for the global gas industry, Flame will provide a vital forum
  for the gas industry to discuss the effects of decarbonisation policy, the
  security of supply implications of new and existing gas infrastructure, th
 e progress of European gas market integration and the outlook for global LN
 G supplies.\n\nThe conference is renowned for the quality of its speaker fa
 culty, the seniority of its attendees and the scope of its discussions.\n\n
  Mudrock Media readers can claim a 20% discount with promo code FKA2742MUDR
 OCK.\n\n DOWNLOAD THE AGENDA >> http://bit.ly/2UiVws8\nVIEW HOME PAGE >> ht
 tp://bit.ly/39jdsHz\n
X-EXTRAINFO:http://bit.ly/2VB1Dsu
DTSTAMP:20260421T054810Z
DTSTART;TZID=Asia/Kuala_Lumpur:20201012T080000
DTEND;TZID=Asia/Kuala_Lumpur:20201013T170000
SEQUENCE:0
TRANSP:OPAQUE
END:VEVENT
END:VCALENDAR